BEGIN:VCALENDAR
VERSION:2.0
PRODID:-//Hope Fellowship of Hillsboro - ECPv6.15.20//NONSGML v1.0//EN
CALSCALE:GREGORIAN
METHOD:PUBLISH
X-WR-CALNAME:Hope Fellowship of Hillsboro
X-ORIGINAL-URL:https://hopefellowship.life
X-WR-CALDESC:Events for Hope Fellowship of Hillsboro
REFRESH-INTERVAL;VALUE=DURATION:PT1H
X-Robots-Tag:noindex
X-PUBLISHED-TTL:PT1H
BEGIN:VTIMEZONE
TZID:America/Los_Angeles
BEGIN:DAYLIGHT
TZOFFSETFROM:-0800
TZOFFSETTO:-0700
TZNAME:PDT
DTSTART:20240310T100000
END:DAYLIGHT
BEGIN:STANDARD
TZOFFSETFROM:-0700
TZOFFSETTO:-0800
TZNAME:PST
DTSTART:20241103T090000
END:STANDARD
BEGIN:DAYLIGHT
TZOFFSETFROM:-0800
TZOFFSETTO:-0700
TZNAME:PDT
DTSTART:20250309T100000
END:DAYLIGHT
BEGIN:STANDARD
TZOFFSETFROM:-0700
TZOFFSETTO:-0800
TZNAME:PST
DTSTART:20251102T090000
END:STANDARD
BEGIN:DAYLIGHT
TZOFFSETFROM:-0800
TZOFFSETTO:-0700
TZNAME:PDT
DTSTART:20260308T100000
END:DAYLIGHT
BEGIN:STANDARD
TZOFFSETFROM:-0700
TZOFFSETTO:-0800
TZNAME:PST
DTSTART:20261101T090000
END:STANDARD
END:VTIMEZONE
BEGIN:VEVENT
DTSTART;TZID=America/Los_Angeles:20250721T083000
DTEND;TZID=America/Los_Angeles:20250725T113000
DTSTAMP:20260420T052103
CREATED:20250529T193512Z
LAST-MODIFIED:20250626T180503Z
UID:10001649-1753086600-1753443000@hopefellowship.life
SUMMARY:MAGNIFIED VBS 2025
DESCRIPTION:JULY 21ST – 25TH\, 2025\, 8:30-11:30am \nFor children entering Kindergarten through 5th grade… \nVBS will encourage kids to look closely at the details of God’s amazing world and magnify\, or proclaim\, the greatness of God. God made us\, cares about us\, loves us\, forgives us\, and is faithful to keep all His promises to us. We can praise God together! We were made to magnify God! \nCost is $15 per child\, and will include a t-shirt. Scholarships available. \nQuestions? Email us at vbs@hopefellowship.life \nREGISTER HERE
URL:https://hopefellowship.life/event/magnified-vbs-2025
LOCATION:OR
CATEGORIES:Featured
ATTACH;FMTTYPE=image/png:https://hopefellowship.life/wp-content/uploads/2025/05/unnamed-2.png
END:VEVENT
END:VCALENDAR