BEGIN:VCALENDAR
VERSION:2.0
PRODID:-//Hope Fellowship of Hillsboro - ECPv6.15.20//NONSGML v1.0//EN
CALSCALE:GREGORIAN
METHOD:PUBLISH
X-WR-CALNAME:Hope Fellowship of Hillsboro
X-ORIGINAL-URL:https://hopefellowship.life
X-WR-CALDESC:Events for Hope Fellowship of Hillsboro
REFRESH-INTERVAL;VALUE=DURATION:PT1H
X-Robots-Tag:noindex
X-PUBLISHED-TTL:PT1H
BEGIN:VTIMEZONE
TZID:America/Los_Angeles
BEGIN:DAYLIGHT
TZOFFSETFROM:-0800
TZOFFSETTO:-0700
TZNAME:PDT
DTSTART:20210314T100000
END:DAYLIGHT
BEGIN:STANDARD
TZOFFSETFROM:-0700
TZOFFSETTO:-0800
TZNAME:PST
DTSTART:20211107T090000
END:STANDARD
BEGIN:DAYLIGHT
TZOFFSETFROM:-0800
TZOFFSETTO:-0700
TZNAME:PDT
DTSTART:20220313T100000
END:DAYLIGHT
BEGIN:STANDARD
TZOFFSETFROM:-0700
TZOFFSETTO:-0800
TZNAME:PST
DTSTART:20221106T090000
END:STANDARD
BEGIN:DAYLIGHT
TZOFFSETFROM:-0800
TZOFFSETTO:-0700
TZNAME:PDT
DTSTART:20230312T100000
END:DAYLIGHT
BEGIN:STANDARD
TZOFFSETFROM:-0700
TZOFFSETTO:-0800
TZNAME:PST
DTSTART:20231105T090000
END:STANDARD
END:VTIMEZONE
BEGIN:VEVENT
DTSTART;TZID=America/Los_Angeles:20220422T180000
DTEND;TZID=America/Los_Angeles:20220422T200000
DTSTAMP:20260422T154016
CREATED:20220422T190625Z
LAST-MODIFIED:20220817T213701Z
UID:10000073-1650650400-1650657600@hopefellowship.life
SUMMARY:Youth Night!
DESCRIPTION:Youth Night! \nFor middle and high school age. Food\, games\, and gospel.  \nNext two events: Friday\, April 22\, 6-8 PM. Friday May 6th\, 6PM-8PM at Hope Fellowship!  \nEmail office@hopefellowship.life for more information! \n 
URL:https://hopefellowship.life/event/youth-night
CATEGORIES:Featured
ATTACH;FMTTYPE=image/png:https://hopefellowship.life/wp-content/uploads/2022/04/Youth-Night.png
END:VEVENT
END:VCALENDAR