BEGIN:VCALENDAR
VERSION:2.0
PRODID:-//Hope Fellowship of Hillsboro - ECPv6.15.20//NONSGML v1.0//EN
CALSCALE:GREGORIAN
METHOD:PUBLISH
X-WR-CALNAME:Hope Fellowship of Hillsboro
X-ORIGINAL-URL:https://hopefellowship.life
X-WR-CALDESC:Events for Hope Fellowship of Hillsboro
REFRESH-INTERVAL;VALUE=DURATION:PT1H
X-Robots-Tag:noindex
X-PUBLISHED-TTL:PT1H
BEGIN:VTIMEZONE
TZID:America/Los_Angeles
BEGIN:DAYLIGHT
TZOFFSETFROM:-0800
TZOFFSETTO:-0700
TZNAME:PDT
DTSTART:20240310T100000
END:DAYLIGHT
BEGIN:STANDARD
TZOFFSETFROM:-0700
TZOFFSETTO:-0800
TZNAME:PST
DTSTART:20241103T090000
END:STANDARD
BEGIN:DAYLIGHT
TZOFFSETFROM:-0800
TZOFFSETTO:-0700
TZNAME:PDT
DTSTART:20250309T100000
END:DAYLIGHT
BEGIN:STANDARD
TZOFFSETFROM:-0700
TZOFFSETTO:-0800
TZNAME:PST
DTSTART:20251102T090000
END:STANDARD
BEGIN:DAYLIGHT
TZOFFSETFROM:-0800
TZOFFSETTO:-0700
TZNAME:PDT
DTSTART:20260308T100000
END:DAYLIGHT
BEGIN:STANDARD
TZOFFSETFROM:-0700
TZOFFSETTO:-0800
TZNAME:PST
DTSTART:20261101T090000
END:STANDARD
END:VTIMEZONE
BEGIN:VEVENT
DTSTART;TZID=America/Los_Angeles:20250809T090000
DTEND;TZID=America/Los_Angeles:20250809T160000
DTSTAMP:20260420T024217
CREATED:20250718T154504Z
LAST-MODIFIED:20250718T155414Z
UID:10001650-1754730000-1754755200@hopefellowship.life
SUMMARY:Rummage Sale
DESCRIPTION:Hope is hosting an all-church garage sale to raise funds for our Next Steps Campaign! A bake sale will also be available. Reach out to chantal@hopefellowhsip.life if you have any questions!
URL:https://hopefellowship.life/event/rummage-sale
LOCATION:Hope Fellowship\, 5215 SE Golden Rd\, Hillsboro\, OR\, 97123\, United States
CATEGORIES:Featured
ATTACH;FMTTYPE=image/png:https://hopefellowship.life/wp-content/uploads/2025/07/Church-Wide-Rummage-Sale-FB-Website-Banner.png
END:VEVENT
BEGIN:VEVENT
DTSTART;TZID=America/Los_Angeles:20250810T103000
DTEND;TZID=America/Los_Angeles:20250810T140000
DTSTAMP:20260420T024217
CREATED:20250508T212022Z
LAST-MODIFIED:20250807T181201Z
UID:10001647-1754821800-1754834400@hopefellowship.life
SUMMARY:Church On the Farm 2025
DESCRIPTION:August 10\, 2025 at 10:30am: Join us for our Church on the Farm service at Christmas Mountain Choose & Cut! \nWhat to Bring: Please bring chairs or a blanket to sit on during the service. You may want sunscreen and a hat or an umbrella or pop up tent. \nParking: Please park in the parking lot. We will have our tractor and wagon shuttle available to provide rides up to the top\, or you may walk. If you anticipate mobility needs please email us at office@hopefellowship.life. \nSIGN UP HERE
URL:https://hopefellowship.life/event/church-on-the-farm-2025
LOCATION:OR
CATEGORIES:Featured
ATTACH;FMTTYPE=image/png:https://hopefellowship.life/wp-content/uploads/2025/05/CHURCH-ON-THE-FARM.png
END:VEVENT
END:VCALENDAR