BEGIN:VCALENDAR
VERSION:2.0
PRODID:-//Hope Fellowship of Hillsboro - ECPv6.15.20//NONSGML v1.0//EN
CALSCALE:GREGORIAN
METHOD:PUBLISH
X-WR-CALNAME:Hope Fellowship of Hillsboro
X-ORIGINAL-URL:https://hopefellowship.life
X-WR-CALDESC:Events for Hope Fellowship of Hillsboro
REFRESH-INTERVAL;VALUE=DURATION:PT1H
X-Robots-Tag:noindex
X-PUBLISHED-TTL:PT1H
BEGIN:VTIMEZONE
TZID:America/Los_Angeles
BEGIN:DAYLIGHT
TZOFFSETFROM:-0800
TZOFFSETTO:-0700
TZNAME:PDT
DTSTART:20240310T100000
END:DAYLIGHT
BEGIN:STANDARD
TZOFFSETFROM:-0700
TZOFFSETTO:-0800
TZNAME:PST
DTSTART:20241103T090000
END:STANDARD
BEGIN:DAYLIGHT
TZOFFSETFROM:-0800
TZOFFSETTO:-0700
TZNAME:PDT
DTSTART:20250309T100000
END:DAYLIGHT
BEGIN:STANDARD
TZOFFSETFROM:-0700
TZOFFSETTO:-0800
TZNAME:PST
DTSTART:20251102T090000
END:STANDARD
BEGIN:DAYLIGHT
TZOFFSETFROM:-0800
TZOFFSETTO:-0700
TZNAME:PDT
DTSTART:20260308T100000
END:DAYLIGHT
BEGIN:STANDARD
TZOFFSETFROM:-0700
TZOFFSETTO:-0800
TZNAME:PST
DTSTART:20261101T090000
END:STANDARD
END:VTIMEZONE
BEGIN:VEVENT
DTSTART;TZID=America/Los_Angeles:20250314T190000
DTEND;TZID=America/Los_Angeles:20250316T100000
DTSTAMP:20260421T093213
CREATED:20250124T191845Z
LAST-MODIFIED:20250124T191845Z
UID:10001582-1741978800-1742119200@hopefellowship.life
SUMMARY:Hope Women's Retreat 2025
DESCRIPTION:Join other women of Hope at Camp Arrah Wanna for a time of fellowship and study in Ephesians. Register here. \n\n\n	Related
URL:https://hopefellowship.life/event/hope-womens-retreat-2025
LOCATION:Camp Arrah Wanna
CATEGORIES:Featured
ATTACH;FMTTYPE=image/png:https://hopefellowship.life/wp-content/uploads/2023/09/Womens-Retreat-Banner.png
ORGANIZER;CN="Chantal South":MAILTO:Chantal@hopefellowship.life
END:VEVENT
END:VCALENDAR