BEGIN:VCALENDAR
VERSION:2.0
PRODID:-//Hope Fellowship of Hillsboro - ECPv6.15.20//NONSGML v1.0//EN
CALSCALE:GREGORIAN
METHOD:PUBLISH
X-ORIGINAL-URL:https://hopefellowship.life
X-WR-CALDESC:Events for Hope Fellowship of Hillsboro
REFRESH-INTERVAL;VALUE=DURATION:PT1H
X-Robots-Tag:noindex
X-PUBLISHED-TTL:PT1H
BEGIN:VTIMEZONE
TZID:America/Los_Angeles
BEGIN:DAYLIGHT
TZOFFSETFROM:-0800
TZOFFSETTO:-0700
TZNAME:PDT
DTSTART:20210314T100000
END:DAYLIGHT
BEGIN:STANDARD
TZOFFSETFROM:-0700
TZOFFSETTO:-0800
TZNAME:PST
DTSTART:20211107T090000
END:STANDARD
BEGIN:DAYLIGHT
TZOFFSETFROM:-0800
TZOFFSETTO:-0700
TZNAME:PDT
DTSTART:20220313T100000
END:DAYLIGHT
BEGIN:STANDARD
TZOFFSETFROM:-0700
TZOFFSETTO:-0800
TZNAME:PST
DTSTART:20221106T090000
END:STANDARD
BEGIN:DAYLIGHT
TZOFFSETFROM:-0800
TZOFFSETTO:-0700
TZNAME:PDT
DTSTART:20230312T100000
END:DAYLIGHT
BEGIN:STANDARD
TZOFFSETFROM:-0700
TZOFFSETTO:-0800
TZNAME:PST
DTSTART:20231105T090000
END:STANDARD
BEGIN:DAYLIGHT
TZOFFSETFROM:-0800
TZOFFSETTO:-0700
TZNAME:PDT
DTSTART:20240310T100000
END:DAYLIGHT
BEGIN:STANDARD
TZOFFSETFROM:-0700
TZOFFSETTO:-0800
TZNAME:PST
DTSTART:20241103T090000
END:STANDARD
BEGIN:DAYLIGHT
TZOFFSETFROM:-0800
TZOFFSETTO:-0700
TZNAME:PDT
DTSTART:20250309T100000
END:DAYLIGHT
BEGIN:STANDARD
TZOFFSETFROM:-0700
TZOFFSETTO:-0800
TZNAME:PST
DTSTART:20251102T090000
END:STANDARD
BEGIN:DAYLIGHT
TZOFFSETFROM:-0800
TZOFFSETTO:-0700
TZNAME:PDT
DTSTART:20260308T100000
END:DAYLIGHT
BEGIN:STANDARD
TZOFFSETFROM:-0700
TZOFFSETTO:-0800
TZNAME:PST
DTSTART:20261101T090000
END:STANDARD
END:VTIMEZONE
BEGIN:VEVENT
DTSTART;TZID=America/Los_Angeles:20250606T180000
DTEND;TZID=America/Los_Angeles:20250608T100000
DTSTAMP:20260421T045833
CREATED:20250403T155313Z
LAST-MODIFIED:20250403T155313Z
UID:10001586-1749232800-1749376800@hopefellowship.life
SUMMARY:Man Camp 2025
DESCRIPTION:Join other men of Hope at Dunes Camp for a time of fellowship and study in Beholding God. Register here. \n\n\n	Related
URL:https://hopefellowship.life/event/man-camp-2025
LOCATION:Dunes Bible Camp\, 23515 Pacific Way\, Ocean Park\, WA\, 98640
CATEGORIES:Featured
ATTACH;FMTTYPE=image/jpeg:https://hopefellowship.life/wp-content/uploads/2025/04/mancamp-logo-2025-scaled.jpg
ORGANIZER;CN="Chantal South":MAILTO:Chantal@hopefellowship.life
END:VEVENT
BEGIN:VEVENT
DTSTART;TZID=America/Los_Angeles:20220520T160000
DTEND;TZID=America/Los_Angeles:20220522T120000
DTSTAMP:20260421T045833
CREATED:20220310T182010Z
LAST-MODIFIED:20220817T203100Z
UID:10000072-1653062400-1653220800@hopefellowship.life
SUMMARY:Man Camp 2022
DESCRIPTION:MEN! Join us for a weekend of fellowship in the Word\, throwing AXE\, corn-hole\, pingpong\, pool table\, basketball\, beach activities\, great food\, and more! This event is hosted by Hope Fellowship and Timberline Baptist. The cost is $110. Register here BEFORE May 1st. \n			\n			\n				\n				\n				\n				\n			\n				\n				\n			 \n\n\n	Related
URL:https://hopefellowship.life/event/man-camp-2022
LOCATION:Dunes Bible Camp\, 23515 Pacific Way\, Ocean Park\, WA\, 98640
ATTACH;FMTTYPE=image/png:https://hopefellowship.life/wp-content/uploads/2022/03/Man-Camp-Feature.png
END:VEVENT
END:VCALENDAR