BEGIN:VCALENDAR
VERSION:2.0
PRODID:-//Hope Fellowship of Hillsboro - ECPv6.15.20//NONSGML v1.0//EN
CALSCALE:GREGORIAN
METHOD:PUBLISH
X-ORIGINAL-URL:https://hopefellowship.life
X-WR-CALDESC:Events for Hope Fellowship of Hillsboro
REFRESH-INTERVAL;VALUE=DURATION:PT1H
X-Robots-Tag:noindex
X-PUBLISHED-TTL:PT1H
BEGIN:VTIMEZONE
TZID:America/Los_Angeles
BEGIN:DAYLIGHT
TZOFFSETFROM:-0800
TZOFFSETTO:-0700
TZNAME:PDT
DTSTART:20210314T100000
END:DAYLIGHT
BEGIN:STANDARD
TZOFFSETFROM:-0700
TZOFFSETTO:-0800
TZNAME:PST
DTSTART:20211107T090000
END:STANDARD
BEGIN:DAYLIGHT
TZOFFSETFROM:-0800
TZOFFSETTO:-0700
TZNAME:PDT
DTSTART:20220313T100000
END:DAYLIGHT
BEGIN:STANDARD
TZOFFSETFROM:-0700
TZOFFSETTO:-0800
TZNAME:PST
DTSTART:20221106T090000
END:STANDARD
BEGIN:DAYLIGHT
TZOFFSETFROM:-0800
TZOFFSETTO:-0700
TZNAME:PDT
DTSTART:20230312T100000
END:DAYLIGHT
BEGIN:STANDARD
TZOFFSETFROM:-0700
TZOFFSETTO:-0800
TZNAME:PST
DTSTART:20231105T090000
END:STANDARD
BEGIN:DAYLIGHT
TZOFFSETFROM:-0800
TZOFFSETTO:-0700
TZNAME:PDT
DTSTART:20240310T100000
END:DAYLIGHT
BEGIN:STANDARD
TZOFFSETFROM:-0700
TZOFFSETTO:-0800
TZNAME:PST
DTSTART:20241103T090000
END:STANDARD
END:VTIMEZONE
BEGIN:VEVENT
DTSTART;TZID=America/Los_Angeles:20231118T080000
DTEND;TZID=America/Los_Angeles:20231118T120000
DTSTAMP:20260423T045008
CREATED:20240906T151800Z
LAST-MODIFIED:20240906T151809Z
UID:10001399-1700294400-1700308800@hopefellowship.life
SUMMARY:Leaf Day 2024
DESCRIPTION:Every year\, we gather as a church family to collect the fallen leaves from our beautiful trees on-campus! November 23th will likely be our annual leaf day. Please feel free to reach out to the office if you have any questions. Sign up is available on Realm. If the leaves don’t fall\, we’ll likely postpone to December 21st. Bring your own rakes/tools (we will provide the leaves 🙂 )  \nREGISTER HERE \n\n\n	Related
URL:https://hopefellowship.life/event/leaf-day-2024
LOCATION:Hope Fellowship\, 5215 SE Golden Rd\, Hillsboro\, OR\, 97123\, United States
CATEGORIES:Featured
ATTACH;FMTTYPE=image/png:https://hopefellowship.life/wp-content/uploads/2024/09/LEAF-DAY-3.png
END:VEVENT
BEGIN:VEVENT
DTSTART;TZID=America/Los_Angeles:20231118T080000
DTEND;TZID=America/Los_Angeles:20231118T120000
DTSTAMP:20260423T045008
CREATED:20231103T152808Z
LAST-MODIFIED:20231103T152808Z
UID:10000923-1700294400-1700308800@hopefellowship.life
SUMMARY:Leaf Day 2023
DESCRIPTION:Every year\, we gather as a church family to collect the fallen leaves from our beautiful trees on-campus! November 18th will likely be our annual leaf day. Please feel free to reach out to the office if you have any questions. Sign up is available on Realm. If the leaves don’t fall\, we’ll likely postpone to December 16th. Bring your own rakes/tools (we will provide the leaves 🙂 )  \nREGISTER HERE \n\n\n	Related
URL:https://hopefellowship.life/event/leaf-day-2023
LOCATION:Hope Fellowship\, 5215 SE Golden Rd\, Hillsboro\, OR\, 97123\, United States
CATEGORIES:Featured
ATTACH;FMTTYPE=image/png:https://hopefellowship.life/wp-content/uploads/2023/11/LEAF-DAY-2.png
END:VEVENT
BEGIN:VEVENT
DTSTART;TZID=America/Los_Angeles:20231112T090000
DTEND;TZID=America/Los_Angeles:20231112T095000
DTSTAMP:20260423T045008
CREATED:20230901T183438Z
LAST-MODIFIED:20230901T183438Z
UID:10000919-1699779600-1699782600@hopefellowship.life
SUMMARY:Membership Class
DESCRIPTION:If you aren’t a member and have questions or are interested about becoming one\, this class is for you! It will take place every Sunday from 9-9:50 from October 22nd to November 26th. Register here\, or by clicking the link below. \n\n\n	Related
URL:https://hopefellowship.life/event/membership-class/2023-11-12
LOCATION:Hope Fellowship\, 5215 SE Golden Rd\, Hillsboro\, OR\, 97123\, United States
ATTACH;FMTTYPE=image/png:https://hopefellowship.life/wp-content/uploads/2023/09/Membership-Class.png
ORGANIZER;CN="Chantal South":MAILTO:Chantal@hopefellowship.life
END:VEVENT
BEGIN:VEVENT
DTSTART;TZID=America/Los_Angeles:20231105T090000
DTEND;TZID=America/Los_Angeles:20231105T095000
DTSTAMP:20260423T045008
CREATED:20230901T183438Z
LAST-MODIFIED:20230901T183438Z
UID:10000918-1699174800-1699177800@hopefellowship.life
SUMMARY:Membership Class
DESCRIPTION:If you aren’t a member and have questions or are interested about becoming one\, this class is for you! It will take place every Sunday from 9-9:50 from October 22nd to November 26th. Register here\, or by clicking the link below. \n\n\n	Related
URL:https://hopefellowship.life/event/membership-class/2023-11-05
LOCATION:Hope Fellowship\, 5215 SE Golden Rd\, Hillsboro\, OR\, 97123\, United States
ATTACH;FMTTYPE=image/png:https://hopefellowship.life/wp-content/uploads/2023/09/Membership-Class.png
ORGANIZER;CN="Chantal South":MAILTO:Chantal@hopefellowship.life
END:VEVENT
BEGIN:VEVENT
DTSTART;TZID=America/Los_Angeles:20231031T180000
DTEND;TZID=America/Los_Angeles:20231031T200000
DTSTAMP:20260423T045008
CREATED:20230921T180106Z
LAST-MODIFIED:20230921T180106Z
UID:10000922-1698775200-1698782400@hopefellowship.life
SUMMARY:Trunk or Treat 2023
DESCRIPTION:Family-friendly\, fun-friendly\, and free! Decorate your trunk and come ready to hand out candy! Best Decorated Car will receive a prize at the end… and don’t forget your costume! Sign up on Realm or in the lobby. We’ll have a bin out soon to start collecting candy\, as well!  \n  \n  \n\n\n	Related
URL:https://hopefellowship.life/event/trunk-or-treat-2023
LOCATION:Hope Fellowship\, 5215 SE Golden Rd\, Hillsboro\, OR\, 97123\, United States
CATEGORIES:Featured
ATTACH;FMTTYPE=image/png:https://hopefellowship.life/wp-content/uploads/2023/09/Trunk-or-Treat-Facebook-Cover-1920-×-1005-px.png
END:VEVENT
BEGIN:VEVENT
DTSTART;TZID=America/Los_Angeles:20231029T090000
DTEND;TZID=America/Los_Angeles:20231029T095000
DTSTAMP:20260423T045008
CREATED:20230901T183438Z
LAST-MODIFIED:20230901T183438Z
UID:10000917-1698570000-1698573000@hopefellowship.life
SUMMARY:Membership Class
DESCRIPTION:If you aren’t a member and have questions or are interested about becoming one\, this class is for you! It will take place every Sunday from 9-9:50 from October 22nd to November 26th. Register here\, or by clicking the link below. \n\n\n	Related
URL:https://hopefellowship.life/event/membership-class/2023-10-29
LOCATION:Hope Fellowship\, 5215 SE Golden Rd\, Hillsboro\, OR\, 97123\, United States
ATTACH;FMTTYPE=image/png:https://hopefellowship.life/wp-content/uploads/2023/09/Membership-Class.png
ORGANIZER;CN="Chantal South":MAILTO:Chantal@hopefellowship.life
END:VEVENT
BEGIN:VEVENT
DTSTART;TZID=America/Los_Angeles:20231022T090000
DTEND;TZID=America/Los_Angeles:20231022T095000
DTSTAMP:20260423T045008
CREATED:20230901T183504Z
LAST-MODIFIED:20230901T183516Z
UID:10000916-1697965200-1697968200@hopefellowship.life
SUMMARY:Membership Class
DESCRIPTION:If you aren’t a member and have questions or are interested about becoming one\, this class is for you! It will take place every Sunday from 9-9:50 from October 22nd to November 26th. Register here\, or by clicking the link below. \n\n\n	Related
URL:https://hopefellowship.life/event/membership-class-2
LOCATION:Hope Fellowship\, 5215 SE Golden Rd\, Hillsboro\, OR\, 97123\, United States
CATEGORIES:Featured
ATTACH;FMTTYPE=image/png:https://hopefellowship.life/wp-content/uploads/2023/09/Membership-Class.png
ORGANIZER;CN="Chantal South":MAILTO:Chantal@hopefellowship.life
END:VEVENT
BEGIN:VEVENT
DTSTART;TZID=America/Los_Angeles:20230830T180000
DTEND;TZID=America/Los_Angeles:20230830T200000
DTSTAMP:20260423T045008
CREATED:20230818T182912Z
LAST-MODIFIED:20230818T182912Z
UID:10000913-1693418400-1693425600@hopefellowship.life
SUMMARY:Back to School Block Party
DESCRIPTION:Come celebrate back to school with us with games\, s’mores\, and ice cream! All ages are welcome. \n\n\n	Related
URL:https://hopefellowship.life/event/back-to-school-block-party
LOCATION:Hope Fellowship\, 5215 SE Golden Rd\, Hillsboro\, OR\, 97123\, United States
CATEGORIES:Featured
ATTACH;FMTTYPE=image/png:https://hopefellowship.life/wp-content/uploads/2023/08/Block-out-Banner.png
END:VEVENT
BEGIN:VEVENT
DTSTART;TZID=America/Los_Angeles:20230305T120000
DTEND;TZID=America/Los_Angeles:20230305T140000
DTSTAMP:20260423T045008
CREATED:20230221T174942Z
LAST-MODIFIED:20230221T174953Z
UID:10000903-1678017600-1678024800@hopefellowship.life
SUMMARY:Isenberg Send Off
DESCRIPTION:Stay after church to say goodbye to our worship interns\, Michael and Cassie\, who will be moving away. \n\n\n	Related
URL:https://hopefellowship.life/event/isenberg-send-off
LOCATION:Hope Fellowship\, 5215 SE Golden Rd\, Hillsboro\, OR\, 97123\, United States
CATEGORIES:Featured
ATTACH;FMTTYPE=image/png:https://hopefellowship.life/wp-content/uploads/2023/02/Isenburg-Farewell.png
ORGANIZER;CN="Chantal South":MAILTO:Chantal@hopefellowship.life
END:VEVENT
BEGIN:VEVENT
DTSTART;TZID=America/Los_Angeles:20221203T080000
DTEND;TZID=America/Los_Angeles:20221203T140000
DTSTAMP:20260423T045008
CREATED:20221028T183536Z
LAST-MODIFIED:20221028T183536Z
UID:10000152-1670054400-1670076000@hopefellowship.life
SUMMARY:Leaf Day
DESCRIPTION:Lunch included \n\n\n	Related
URL:https://hopefellowship.life/event/leaf-day
LOCATION:Hope Fellowship\, 5215 SE Golden Rd\, Hillsboro\, OR\, 97123\, United States
ATTACH;FMTTYPE=image/png:https://hopefellowship.life/wp-content/uploads/2022/10/LEAF-DAY-1.png
ORGANIZER;CN="Chantal South":MAILTO:Chantal@hopefellowship.life
END:VEVENT
BEGIN:VEVENT
DTSTART;TZID=America/Los_Angeles:20221008T090000
DTEND;TZID=America/Los_Angeles:20221008T160000
DTSTAMP:20260423T045008
CREATED:20220909T181733Z
LAST-MODIFIED:20220909T234203Z
UID:10000143-1665219600-1665244800@hopefellowship.life
SUMMARY:Women of Hope Day Retreat
DESCRIPTION:A day retreat for women\, ages middle school and up. The event will be focused around the study by Nancie Guthrie\, The Promised One. Join us for a light breakfast\, catered lunch\, a craft\, and wonderful fellowship! The day retreat begins at 9 AM and will finish at 4 PM. Cost is $30! Be sure to follow the registration link all the way to the end– 3 clicks to register! \n\n\n	Related
URL:https://hopefellowship.life/event/women-of-hope-day-retreat
LOCATION:Hope Fellowship\, 5215 SE Golden Rd\, Hillsboro\, OR\, 97123\, United States
CATEGORIES:Featured
ATTACH;FMTTYPE=image/png:https://hopefellowship.life/wp-content/uploads/2022/09/1.png
END:VEVENT
BEGIN:VEVENT
DTSTART;TZID=America/Los_Angeles:20221001T090000
DTEND;TZID=America/Los_Angeles:20221001T120000
DTSTAMP:20260423T045008
CREATED:20220909T234628Z
LAST-MODIFIED:20220909T234642Z
UID:10000145-1664614800-1664625600@hopefellowship.life
SUMMARY:Gospel Engagement Class
DESCRIPTION:September 30-Oct 1\, Gospel Engagement Class 6-9 PM Friday night\, 9-12 on Saturday. This class is geared towards equipping you to speak the gospel to yourself\, fellow believers\, and those who do not yet believe. It will be interactive\, and is foundational content for the classes to follow: Gospel Parenting\, Gospel and Culture\, and so forth. Register Here! \n\n\n	Related
URL:https://hopefellowship.life/event/gospel-engagement-class-2
LOCATION:5215 SE Golden Rd\, Hillsboro\, OR\, 97123\, United States
CATEGORIES:Featured
ATTACH;FMTTYPE=image/jpeg:https://hopefellowship.life/wp-content/uploads/2022/09/a81c7a2fa4ed419a8741af0401214822.jpeg
END:VEVENT
END:VCALENDAR